Workbook

Sheet Datalog
A1: Time | B1: Accel. Pedal Pos. (%) | C1: Actual AFR (AFR) | D1: Boost (kPA) | E1: Boost Air Temp. (� C) | F1: Calculated Load (Load) | G1: Coolant Temp. (� C) | H1: HPFP Act. Press. (kPA) | I1: Intake Temp. (� C) | J1: Intake Valve Adv. (�) | K1: Knock Retard (�) | L1: Long Term FT (%) | M1: MAF Voltage (V) | N1: Mass Airflow (g/s) | O1: RPM (RPM) | P1: Short Term FT (%) | Q1: Spark Adv. (�) | R1: Throttle Position (%) | S1: Vehicle Speed (kph) | T1: Wastegate Duty (%)
A2: 18.31 | B2: 13.65 | C2: 14.47 | D2: -68.31 | E2: 56.25 | F2: 0.18 | G2: 89 | H2: 2800 | I2: 41 | J2: 0 | K2: 0 | L2: -9.52 | M2: 1.81 | N2: 12.39 | O2: 3219 | P2: -4.84 | Q2: 54 | R2: 17.55 | S2: 0 | T2: 0.33
A3: 18.58 | B3: 22.62 | C3: 14.81 | D3: -34.19 | E3: 56.25 | F3: 0.71 | G3: 89 | H3: 11490 | I3: 41 | J3: 2.75 | K3: 0 | L3: -12.64 | M3: 2.69 | N3: 50.36 | O3: 3763 | P3: 2.96 | Q3: 23 | R3: 23.4 | S3: 0 | T3: 0.33
A4: 18.82 | B4: 46.8 | C4: 13.9 | D4: 0.93 | E4: 55.62 | F4: 0.99 | G4: 89 | H4: 11270 | I4: 41 | J4: 14.94 | K4: 0 | L4: -0.16 | M4: 3.39 | N4: 102.17 | O4: 4123 | P4: -6.4 | Q4: 15 | R4: 76.83 | S4: 0 | T4: 43.26 | U4: 1-я передача
A5: 19.07 | B5: 37.44 | C5: 11.94 | D5: 34.58 | E5: 55 | F5: 1.24 | G5: 89 | H5: 11220 | I5: 41 | J5: 11.5 | K5: 0 | L5: -0.16 | M5: 3.76 | N5: 135.7 | O5: 4166 | P5: 2.96 | Q5: 10.5 | R5: 75.27 | S5: 17 | T5: 31.2
A6: 19.31 | B6: 19.11 | C6: 12.29 | D6: -40.62 | E6: 53.75 | F6: 0.94 | G6: 89 | H6: 11340 | I6: 41 | J6: 0.44 | K6: 0 | L6: -0.16 | M6: 2.14 | N6: 46.36 | O6: 4327 | P6: 6.86 | Q6: 17 | R6: 18.72 | S6: 37 | T6: 0.39
A7: 19.55 | B7: 36.27 | C7: 14.24 | D7: -9.45 | E7: 53.75 | F7: 0.66 | G7: 89 | H7: 11440 | I7: 41 | J7: 20.06 | K7: 0.35 | L7: -12.64 | M7: 2.95 | N7: 56.52 | O7: 3635 | P7: -1.72 | Q7: 27.5 | R7: 28.08 | S7: 33 | T7: 0.28
A8: 19.79 | B8: 46.02 | C8: 11.02 | D8: 31.6 | E8: 52.5 | F8: 1.27 | G8: 89 | H8: 11370 | I8: 41 | J8: 17.88 | K8: 0.35 | L8: -0.16 | M8: 3.54 | N8: 121.73 | O8: 3822 | P8: 23.24 | Q8: 9.5 | R8: 44.07 | S8: 32 | T8: 21.7
A9: 20.02 | B9: 47.97 | C9: 9.53 | D9: 49.41 | E9: 51.88 | F9: 1.34 | G9: 89 | H9: 11630 | I9: 41 | J9: 0 | K9: 0 | L9: -0.16 | M9: 3.79 | N9: 149.15 | O9: 4337 | P9: -0.16 | Q9: 10.5 | R9: 43.29 | S9: 35 | T9: 19.95
A10: 20.27 | B10: 34.71 | C10: 9.65 | D10: 13.3 | E10: 51.25 | F10: 1.3 | G10: 89 | H10: 11630 | I10: 41 | J10: 1.44 | K10: 0 | L10: -0.16 | M10: 3.43 | N10: 149.15 | O10: 4873 | P10: 28.7 | Q10: 12.5 | R10: 32.76 | S10: 42 | T10: 0
A11: 20.54 | B11: 49.53 | C11: 11.94 | D11: 45.45 | E11: 50.62 | F11: 1.18 | G11: 89 | H11: 11390 | I11: 41 | J11: 5.62 | K11: 0 | L11: -0.16 | M11: 3.95 | N11: 167.83 | O11: 5194 | P11: 28.7 | Q11: 14 | R11: 49.92 | S11: 43 | T11: 17.76
A12: 20.78 | B12: 50.31 | C12: 10.91 | D12: 53.86 | E12: 50 | F12: 1.28 | G12: 89 | H12: 11610 | I12: 41 | J12: 0 | K12: 0 | L12: -0.16 | M12: 4.09 | N12: 193.41 | O12: 5699 | P12: 31.82 | Q12: 12 | R12: 54.6 | S12: 47 | T12: 17.72
A13: 21.03 | B13: 50.31 | C13: 10.8 | D13: 60.8 | E13: 48.75 | F13: 1.28 | G13: 89 | H13: 11270 | I13: 41 | J13: 0 | K13: 0 | L13: -0.16 | M13: 4.17 | N13: 204.32 | O13: 6162 | P13: 31.04 | Q13: 11.5 | R13: 55.38 | S13: 50 | T13: 14.88
A14: 21.27 | B14: 0.39 | C14: 13.44 | D14: -40.12 | E14: 48.12 | F14: 1.23 | G14: 89 | H14: 11580 | I14: 41 | J14: 0.31 | K14: 0 | L14: -0.16 | M14: 2.59 | N14: 185.85 | O14: 6510 | P14: 26.36 | Q14: 12 | R14: 30.03 | S14: 57 | T14: 0.33
A15: 21.52 | B15: 98.67 | C15: 12.17 | D15: 15.77 | E15: 47.5 | F15: 0.67 | G15: 89 | H15: 10790 | I15: 40 | J15: 0.38 | K15: 0 | L15: -12.64 | M15: 3.85 | N15: 106.64 | O15: 6239 | P15: 13.88 | Q15: 27.5 | R15: 62.4 | S15: 38 | T15: 63.45
A16: 21.76 | B16: 99.06 | C16: 10.11 | D16: 72.17 | E16: 46.88 | F16: 1.62 | G16: 89 | H16: 11220 | I16: 40 | J16: 0.25 | K16: 0 | L16: -0.16 | M16: 4.27 | N16: 230.77 | O16: 5304 | P16: 24.8 | Q16: 5.5 | R16: 84.63 | S16: 65 | T16: 55.75 | U16: 2-я
A17: 22 | B17: 99.06 | C17: 11.14 | D17: 88 | E17: 46.88 | F17: 1.61 | G17: 89 | H17: 11430 | I17: 39 | J17: 0 | K17: 0 | L17: -0.16 | M17: 4.3 | N17: 235.11 | O17: 5605 | P17: 26.36 | Q17: 7.5 | R17: 85.02 | S17: 72 | T17: 61.49
A18: 22.24 | B18: 99.06 | C18: 11.25 | D18: 88.49 | E18: 46.88 | F18: 1.56 | G18: 89 | H18: 11680 | I18: 39 | J18: 0 | K18: 0 | L18: -0.16 | M18: 4.33 | N18: 241.28 | O18: 5882 | P18: 26.36 | Q18: 10 | R18: 85.8 | S18: 80 | T18: 64.95
A19: 22.48 | B19: 99.06 | C19: 11.25 | D19: 89.98 | E19: 46.25 | F19: 1.55 | G19: 89 | H19: 11270 | I19: 39 | J19: 0.12 | K19: 0 | L19: -0.16 | M19: 4.36 | N19: 245.76 | O19: 6068 | P19: 23.24 | Q19: 11.5 | R19: 85.8 | S19: 81 | T19: 66.24
A20: 22.73 | B20: 99.06 | C20: 11.37 | D20: 89.48 | E20: 46.25 | F20: 1.53 | G20: 91 | H20: 11120 | I20: 38 | J20: 0.06 | K20: 0 | L20: -0.16 | M20: 4.37 | N20: 248.48 | O20: 6198 | P20: 23.24 | Q20: 12 | R20: 85.8 | S20: 83 | T20: 66.87
A21: 22.97 | B21: 99.06 | C21: 11.37 | D21: 93.93 | E21: 46.25 | F21: 1.53 | G21: 91 | H21: 11460 | I21: 38 | J21: 0 | K21: 0 | L21: -0.16 | M21: 4.38 | N21: 250.32 | O21: 6250 | P21: 23.24 | Q21: 12 | R21: 85.8 | S21: 84 | T21: 67.44
A22: 23.19 | B22: 99.06 | C22: 11.37 | D22: 94.92 | E22: 46.25 | F22: 1.51 | G22: 91 | H22: 11430 | I22: 38 | J22: 0 | K22: 0 | L22: -0.16 | M22: 4.38 | N22: 249.4 | O22: 6297 | P22: 22.46 | Q22: 12 | R22: 85.8 | S22: 87 | T22: 68.11
A23: 23.43 | B23: 99.06 | C23: 11.37 | D23: 94.43 | E23: 46.25 | F23: 1.51 | G23: 91 | H23: 11370 | I23: 37 | J23: 0.12 | K23: 0 | L23: -0.16 | M23: 4.37 | N23: 248.48 | O23: 6307 | P23: 22.46 | Q23: 12 | R23: 85.8 | S23: 86 | T23: 68.7
A24: 23.65 | B24: 99.06 | C24: 11.6 | D24: 94.92 | E24: 46.25 | F24: 1.53 | G24: 91 | H24: 11260 | I24: 36 | J24: 0.19 | K24: 0 | L24: -0.16 | M24: 4.37 | N24: 249.4 | O24: 6208 | P24: 23.24 | Q24: 12 | R24: 85.8 | S24: 80 | T24: 69.28
A25: 23.89 | B25: 88.53 | C25: 11.25 | D25: 97.39 | E25: 46.25 | F25: 1.56 | G25: 91 | H25: 11370 | I25: 36 | J25: 0 | K25: 0 | L25: -0.16 | M25: 4.41 | N25: 253.99 | O25: 6157 | P25: 22.46 | Q25: 11.5 | R25: 85.8 | S25: 80 | T25: 69.89
A26: 24.09 | B26: 41.34 | C26: 29.29 | D26: 82.55 | E26: 46.25 | F26: 1.29 | G26: 91 | H26: 12090 | I26: 36 | J26: 0.06 | K26: 0 | L26: -0.16 | M26: 3.98 | N26: 207.5 | O26: 6957 | P26: -0.16 | Q26: 12.5 | R26: 78.78 | S26: 80 | T26: 70.36
A27: 24.35 | B27: 99.06 | C27: 11.71 | D27: 82.06 | E27: 46.25 | F27: 1.24 | G27: 91 | H27: 11560 | I27: 35 | J27: 0 | K27: 0 | L27: -0.16 | M27: 4.35 | N27: 227.34 | O27: 6504 | P27: 33.38 | Q27: 12.5 | R27: 85.8 | S27: 79 | T27: 71.06
A28: 24.62 | B28: 99.06 | C28: 11.02 | D28: 104.32 | E28: 46.25 | F28: 1.83 | G28: 91 | H28: 11320 | I28: 34 | J28: 1.19 | K28: 0 | L28: -0.16 | M28: 4.28 | N28: 235.11 | O28: 4980 | P28: 26.36 | Q28: 6 | R28: 84.24 | S28: 103 | T28: 57.29 | U28: 3-я
A29: 24.91 | B29: 99.06 | C29: 11.25 | D29: 103.33 | E29: 46.25 | F29: 1.8 | G29: 91 | H29: 11390 | I29: 34 | J29: 7.31 | K29: 1.05 | L29: -0.16 | M29: 4.19 | N29: 216.46 | O29: 4670 | P29: 24.8 | Q29: 4.5 | R29: 85.8 | S29: 92 | T29: 55.7
A30: 25.15 | B30: 99.06 | C30: 11.14 | D30: 101.35 | E30: 46.25 | F30: 1.76 | G30: 91 | H30: 11550 | I30: 33 | J30: 6.81 | K30: 0.35 | L30: -0.16 | M30: 4.23 | N30: 219.76 | O30: 4820 | P30: 26.36 | Q30: 6 | R30: 85.8 | S30: 94 | T30: 57.76
A31: 25.38 | B31: 99.06 | C31: 11.02 | D31: 100.87 | E31: 46.25 | F31: 1.75 | G31: 91 | H31: 11630 | I31: 33 | J31: 7.56 | K31: 2.45 | L31: -0.16 | M31: 4.26 | N31: 224.79 | O31: 4960 | P31: 28.7 | Q31: 4 | R31: 85.8 | S31: 98 | T31: 59.43
A32: 25.61 | B32: 99.06 | C32: 10.91 | D32: 100.86 | E32: 46.88 | F32: 1.74 | G32: 93 | H32: 11360 | I32: 32 | J32: 6.94 | K32: 2.45 | L32: -0.16 | M32: 4.31 | N32: 235.11 | O32: 5154 | P32: 28.7 | Q32: 4.5 | R32: 85.8 | S32: 102 | T32: 62.18
A33: 25.85 | B33: 99.06 | C33: 11.02 | D33: 100.86 | E33: 46.88 | F33: 1.73 | G33: 93 | H33: 11580 | I33: 32 | J33: 4.31 | K33: 2.1 | L33: -0.16 | M33: 4.32 | N33: 242.18 | O33: 5300 | P33: 28.7 | Q33: 5.5 | R33: 85.8 | S33: 104 | T33: 64.93
A34: 26.03 | B34: 99.06 | C34: 11.02 | D34: 99.37 | E34: 46.88 | F34: 1.72 | G34: 93 | H34: 11460 | I34: 31 | J34: 0 | K34: 2.1 | L34: -0.16 | M34: 4.36 | N34: 246.65 | O34: 5434 | P34: 28.7 | Q34: 5.5 | R34: 85.8 | S34: 106 | T34: 67.44
A35: 26.29 | B35: 99.06 | C35: 11.02 | D35: 101.35 | E35: 46.88 | F35: 1.7 | G35: 93 | H35: 11360 | I35: 31 | J35: 0 | K35: 2.1 | L35: -0.16 | M35: 4.38 | N35: 247.56 | O35: 5555 | P35: 28.7 | Q35: 6 | R35: 85.8 | S35: 110 | T35: 69.23
A36: 26.5 | B36: 99.06 | C36: 11.02 | D36: 100.36 | E36: 46.88 | F36: 1.69 | G36: 93 | H36: 11820 | I36: 31 | J36: 0 | K36: 1.75 | L36: -0.16 | M36: 4.39 | N36: 250.32 | O36: 5677 | P36: 28.7 | Q36: 6.5 | R36: 85.8 | S36: 112 | T36: 70.58
A37: 26.75 | B37: 99.06 | C37: 11.25 | D37: 100.36 | E37: 47.5 | F37: 1.67 | G37: 93 | H37: 11510 | I37: 30 | J37: 0 | K37: 0 | L37: -0.16 | M37: 4.41 | N37: 255.85 | O37: 5823 | P37: 24.02 | Q37: 9 | R37: 85.8 | S37: 114 | T37: 72.02
A38: 26.99 | B38: 99.06 | C38: 11.25 | D38: 100.36 | E38: 48.12 | F38: 1.65 | G38: 93 | H38: 11460 | I38: 30 | J38: 0 | K38: 0 | L38: -0.16 | M38: 4.4 | N38: 256.78 | O38: 5952 | P38: 24.02 | Q38: 9 | R38: 85.8 | S38: 118 | T38: 73.17
A39: 27.21 | B39: 99.06 | C39: 11.25 | D39: 100.86 | E39: 48.12 | F39: 1.62 | G39: 93 | H39: 11870 | I39: 30 | J39: 0.31 | K39: 0 | L39: -0.16 | M39: 4.43 | N39: 258.65 | O39: 6092 | P39: 23.24 | Q39: 10 | R39: 85.8 | S39: 120 | T39: 73.16
A40: 27.45 | B40: 99.06 | C40: 11.25 | D40: 101.85 | E40: 48.12 | F40: 1.6 | G40: 93 | H40: 11220 | I40: 29 | J40: 0 | K40: 0 | L40: -0.16 | M40: 4.43 | N40: 258.65 | O40: 6234 | P40: 22.46 | Q40: 10.5 | R40: 85.8 | S40: 122 | T40: 73.16
... A44: 28.41 | B44: 99.06 | C44: 11.25 | D44: 92.46 | E44: 49.38 | F44: 1.32 | G44: 94 | H44: 11530 | I44: 29 | J44: 0 | K44: 0 | L44: -0.16 | M44: 4.4 | N44: 237.75 | O44: 6377 | P44: 33.38 | Q44: 11.5 | R44: 85.8 | S44: 130 | T44: 71.42
A45: 28.69 | B45: 99.06 | C45: 10.8 | D45: 106.79 | E45: 49.38 | F45: 1.83 | G45: 94 | H45: 11850 | I45: 29 | J45: 2.56 | K45: 0.35 | L45: -0.16 | M45: 4.32 | N45: 241.28 | O45: 5126 | P45: 27.14 | Q45: 6 | R45: 84.24 | S45: 133 | T45: 61.96 | U45: 4-я
A46: 28.93 | B46: 99.06 | C46: 10.91 | D46: 105.31 | E46: 50 | F46: 1.77 | G46: 94 | H46: 11430 | I46: 28 | J46: 5.31 | K46: 1.75 | L46: -0.16 | M46: 4.34 | N46: 239.5 | O46: 5215 | P46: 28.7 | Q46: 5 | R46: 85.8 | S46: 135 | T46: 63.67
A47: 29.17 | B47: 99.06 | C47: 10.91 | D47: 105.31 | E47: 50 | F47: 1.76 | G47: 94 | H47: 11680 | I47: 28 | J47: 3.94 | K47: 1.75 | L47: -0.16 | M47: 4.36 | N47: 247.56 | O47: 5319 | P47: 28.7 | Q47: 5.5 | R47: 85.8 | S47: 138 | T47: 65.45
A48: 29.38 | B48: 99.06 | C48: 11.02 | D48: 104.81 | E48: 50 | F48: 1.74 | G48: 94 | H48: 11560 | I48: 28 | J48: 0 | K48: 1.4 | L48: -0.16 | M48: 4.38 | N48: 246.65 | O48: 5411 | P48: 28.7 | Q48: 6 | R48: 85.8 | S48: 139 | T48: 66.46
A49: 29.6 | B49: 99.06 | C49: 11.02 | D49: 103.33 | E49: 50 | F49: 1.74 | G49: 94 | H49: 11850 | I49: 28 | J49: 0 | K49: 1.4 | L49: -0.16 | M49: 4.38 | N49: 248.48 | O49: 5478 | P49: 27.92 | Q49: 6 | R49: 85.8 | S49: 142 | T49: 68.16
A50: 29.84 | B50: 99.06 | C50: 11.02 | D50: 103.82 | E50: 50 | F50: 1.72 | G50: 96 | H50: 11630 | I50: 28 | J50: 0 | K50: 1.4 | L50: -0.16 | M50: 4.39 | N50: 250.32 | O50: 5559 | P50: 27.92 | Q50: 6.5 | R50: 85.8 | S50: 143 | T50: 68.91
A51: 30.08 | B51: 99.06 | C51: 11.02 | D51: 103.82 | E51: 50 | F51: 1.72 | G51: 96 | H51: 11670 | I51: 28 | J51: 0 | K51: 1.05 | L51: -0.16 | M51: 4.4 | N51: 253.07 | O51: 5626 | P51: 27.92 | Q51: 7 | R51: 85.8 | S51: 145 | T51: 69.63
A52: 30.32 | B52: 99.06 | C52: 11.02 | D52: 104.82 | E52: 50.62 | F52: 1.7 | G52: 96 | H52: 11460 | I52: 28 | J52: 0 | K52: 1.05 | L52: -0.16 | M52: 4.42 | N52: 255.85 | O52: 5690 | P52: 27.92 | Q52: 7 | R52: 85.8 | S52: 148 | T52: 70.44
A53: 30.56 | B53: 99.06 | C53: 11.25 | D53: 103.33 | E53: 50.62 | F53: 1.69 | G53: 96 | H53: 11510 | I53: 28 | J53: 0 | K53: 0 | L53: -0.16 | M53: 4.43 | N53: 255.85 | O53: 5809 | P53: 24.8 | Q53: 8 | R53: 85.8 | S53: 151 | T53: 71.29
A54: 30.81 | B54: 99.06 | C54: 11.25 | D54: 102.84 | E54: 51.25 | F54: 1.67 | G54: 96 | H54: 11770 | I54: 28 | J54: 0 | K54: 0 | L54: -0.16 | M54: 4.41 | N54: 257.72 | O54: 5873 | P54: 24.8 | Q54: 8.5 | R54: 85.8 | S54: 152 | T54: 72.2
A55: 31.05 | B55: 99.06 | C55: 11.14 | D55: 104.33 | E55: 51.25 | F55: 1.67 | G55: 96 | H55: 11320 | I55: 28 | J55: 0.06 | K55: 0 | L55: -0.16 | M55: 4.43 | N55: 261.45 | O55: 5952 | P55: 24.02 | Q55: 8.5 | R55: 85.8 | S55: 154 | T55: 72.86
A56: 31.29 | B56: 99.06 | C56: 11.14 | D56: 101.85 | E56: 51.25 | F56: 1.65 | G56: 96 | H56: 11850 | I56: 27 | J56: 0 | K56: 0 | L56: -0.16 | M56: 4.44 | N56: 261.45 | O56: 6029 | P56: 24.02 | Q56: 9 | R56: 85.8 | S56: 157 | T56: 73.15
A57: 31.52 | B57: 99.06 | C57: 11.25 | D57: 103.34 | E57: 51.88 | F57: 1.63 | G57: 96 | H57: 11820 | I57: 27 | J57: 0.31 | K57: 0 | L57: -0.16 | M57: 4.43 | N57: 261.45 | O57: 6092 | P57: 24.02 | Q57: 9 | R57: 85.8 | S57: 158 | T57: 73.15
... A95: 40.79 | B95: 0.39 | C95: 16.19 | D95: -64.36 | E95: 60 | F95: 0.18 | G95: 101 | H95: 3790 | I95: 28 | J95: 0.75 | K95: 0 | L95: -12.64 | M95: 1.23 | N95: 3.24 | O95: 863 | P95: 5.3 | Q95: 10 | R95: 12.48 | S95: 123 | T95: 0.23

Sheet MinMaxAverage
A1: Time | B1: Accel. Pedal Pos. (%) | C1: Actual AFR (AFR) | D1: Boost (kPA) | E1: Boost Air Temp. (� C) | F1: Calculated Load (Load) | G1: Coolant Temp. (� C) | H1: HPFP Act. Press. (kPA) | I1: Intake Temp. (� C) | J1: Intake Valve Adv. (�) | K1: Knock Retard (�) | L1: Long Term FT (%) | M1: MAF Voltage (V) | N1: Mass Airflow (g/s) | O1: RPM (RPM) | P1: Short Term FT (%) | Q1: Spark Adv. (�) | R1: Throttle Position (%) | S1: Vehicle Speed (kph) | T1: Wastegate Duty (%)
A2: Min | B2: =MIN(Datalog!B2:B95) -> 0.39 | C2: =MIN(Datalog!C2:C95) -> 9.53 | D2: =MIN(Datalog!D2:D95) -> -82.67 | E2: =MIN(Datalog!E2:E95) -> 46.25 | F2: =MIN(Datalog!F2:F95) -> 0.03 | G2: =MIN(Datalog!G2:G95) -> 89 | H2: =MIN(Datalog!H2:H95) -> 2800 | I2: =MIN(Datalog!I2:I95) -> 26 | ... T2: =MIN(Datalog!T2:T95) -> 0
A3: Max | B3: =MAX(Datalog!B2:B95) -> 99.06 | C3: =MAX(Datalog!C2:C95) -> 29.29 | D3: =MAX(Datalog!D2:D95) -> 108.28 | E3: =MAX(Datalog!E2:E95) -> 60 | F3: =MAX(Datalog!F2:F95) -> 1.83 | G3: =MAX(Datalog!G2:G95) -> 101 | H3: =MAX(Datalog!H2:H95) -> 12380 | I3: =MAX(Datalog!I2:I95) -> 41 | ... T3: =MAX(Datalog!T2:T95) -> 73.17
A4: Avg | B4: =AVERAGE(Datalog!B2:B95) -> 59.031064 | C4: =AVERAGE(Datalog!C2:C95) -> 15.153723 | D4: =AVERAGE(Datalog!D2:D95) -> 32.872128 | E4: =AVERAGE(Datalog!E2:E95) -> 52.195213 | F4: =AVERAGE(Datalog!F2:F95) -> 1.0706383 | G4: =AVERAGE(Datalog!G2:G95) -> 94.617021 | H4: =AVERAGE(Datalog!H2:H95) -> 9595.7447 | I4: =AVERAGE(Datalog!I2:I95) -> 31.43617 | ... T4: =AVERAGE(Datalog!T2:T95) -> 39.890426
